BEGIN:VCALENDAR
VERSION:2.0
PRODID:-//ChamberMaster//Event Calendar 2.0//EN
METHOD:PUBLISH
X-PUBLISHED-TTL:P3D
REFRESH-INTERVAL:P3D
CALSCALE:GREGORIAN
BEGIN:VEVENT
DTSTART;VALUE=DATE:20230421
DTEND;VALUE=DATE:20230422
TRANSP:TRANSPARENT
X-MICROSOFT-CDO-ALLDAYEVENT:TRUE
SUMMARY:Songwriters Showcase!
DESCRIPTION:SONGWRITERS SHOWCASE!!!\n\n\n\n\n\n\n\nFriday\, April 21st\, at the Armory Arts & Events Center in Park Rapids\n\nFeaturing FIVE Minnesota singer/songwriters performing their original songs in an intimate setting with Q&A from the audience!\n\nTed Hajnasiewicz performs with a magnetizing honesty and reflective tone that speaks to the very essence of the human spirit. Ted is a prolific writer that enjoys co-writing in various styles.\n\nKelley Smith is a guitar picker with an old-timey voice. Her authentic\, rootsy sound\, falling somewhere between country\, folk\, bluegrass and old time music\, is a pitch-perfect vehicle for the themes she explores.\n\nSarah Morris\, called a "country-leaning Norah Jones" (Star Tribune)\, wields a keen eye and a captivating voice\; offering poignant\, relatable songs with timeless melodies.\n\nMatthew French creates music to connect people through shared stories of love and loss. He has grown a loyal fan base through his engaging performances\, wry sense of humor and warm\, community-minded spirit.\n\nScott Jasmin crafts songs that pay tribute to the beauty and tragedy of everyday\, ordinary Midwestern small-town life  its highs\, lows\, triumphs\, failures\, love\, loss\, and mundanity.\n\nEmceed by the multitalented and irrepressible Debbie Center!\n\nA limited number of GOLDEN TICKETS will be available for pre-purchase at the Armory office\, the bearer of which is entitled to FIRST CHOICE of seating (including the Armory's unique and PRIMO selection of lounge chairs\, loveseats and sofas!)\n\nGOLDEN TICKETS just $20!\n\nGeneral Admission $20 at the door\n\nRefreshments will be available for purchase from Wine Not? and Revel Brewing of Park Rapids\n\nThis will be a SPECIAL night you won't soon forget\, so SAVE THE DATE\, gather some friends and neighbors and PLAN TO ATTEND!\n\nDoors open 6:30\n\nShowtime 7:00\n\nThe Armory Arts & Events Center\, Scott Jasmin Music and Songwriters Showcase would like to thank our sponsors:\n\nPark Rapids Hardwoods & Milling\n\nWine Not? wine bar (Park Rapids)
X-ALT-DESC;FMTTYPE=text/html:<div class="xjyslct xjbqb8w x972fbf xcfux6l x1qhh985 xm0m39n x9f619 x1rg5ohu xdj266r x11i5rnm xat24cr x1mh8g0r xexx8yu x4uap5 x18d9i69 xkhd6sd x1n2onr6 x16tdsg8 xh8yej3" style="margin: 0px\; padding: 0px\; position: relative\; border-width: 0px\; display: inline-block\; box-sizing: border-box\; width: 680px\; appearance: none\; font-family: &quot\;Segoe UI Historic&quot\;\, &quot\;Segoe UI&quot\;\, Helvetica\, Arial\, sans-serif\; color: rgb(28\, 30\, 33)\; font-size: 12px\;">\n<div class="x78zum5 xdt5ytf xwib8y2 x1y1aw1k" style="padding-top: 8px\; display: flex\; flex-direction: column\; padding-bottom: 8px\; font-family: inherit\;">\n<div class="x9f619 x1n2onr6 x1ja2u2z x78zum5 x2lah0s x1nhvcw1 x1cy8zhl xozqiw3 x1q0g3np x1pi30zi x1swvt13 xexx8yu xykv574 xbmpl8g x4cne27 xifccgj" style="align-items: flex-start\; z-index: 0\; position: relative\; justify-content: flex-start\; padding-right: 16px\; flex-flow: row nowrap\; padding-left: 16px\; flex-shrink: 0\; margin: -6px\; display: flex\; box-sizing: border-box\; padding-top: 0px\; font-family: inherit\;">\n<div class="x9f619 x1n2onr6 x1ja2u2z x78zum5 xdt5ytf x193iq5w xeuugli x1r8uery x1iyjqo2 xs83m0k xamitd3 xsyo7zv x16hj40l x10b6aqq x1yrsyyn" style="padding: 6px\; max-width: 100%\; flex: 1 1 0px\; z-index: 0\; position: relative\; display: flex\; box-sizing: border-box\; align-self: center\; flex-direction: column\; min-width: 0px\; font-family: inherit\;">\n<div class="x78zum5 xdt5ytf xz62fqu x16ldp7u" style="margin-top: -5px\; display: flex\; flex-direction: column\; margin-bottom: -5px\; font-family: inherit\;"><span style="color: var(--primary-text)\; font-family: inherit\; font-size: 0.9375rem\;">SONGWRITERS SHOWCASE!!!</span></div>\n</div>\n</div>\n</div>\n</div>\n\n<div class="x1pi30zi x1swvt13" style="padding-right: 16px\; padding-left: 16px\; font-family: &quot\;Segoe UI Historic&quot\;\, &quot\;Segoe UI&quot\;\, Helvetica\, Arial\, sans-serif\; color: rgb(28\, 30\, 33)\; font-size: 12px\;">\n<div class="x1ni5s2d" style="font-family: inherit\;">\n<div class="x11i5rnm xat24cr x1mh8g0r x1vvkbs xtlvy1s" style="margin: 0.5em 0px 0px\; overflow-wrap: break-word\; font-family: inherit\;"><span class="x193iq5w xeuugli x13faqbe x1vvkbs x1xmvt09 x1lliihq x1s928wv xhkezso x1gmr53x x1cpjm7i x1fgarty x1943h6x xudqn12 x3x7a5m x6prxxf xvq8zen xo1l8bm xzsf02u" dir="auto" style="word-break: break-word\; max-width: 100%\; display: block\; overflow-wrap: break-word\; font-family: inherit\; font-size: 0.9375rem\; min-width: 0px\; line-height: 1.3333\; color: var(--primary-text)\; margin-top: 16px\;">Friday\, April 21st\, at the Armory Arts &amp\; Events Center in Park Rapids</span></div>\n\n<div class="x11i5rnm xat24cr x1mh8g0r x1vvkbs xtlvy1s" style="margin: 0.5em 0px 0px\; overflow-wrap: break-word\; font-family: inherit\;"><span class="x193iq5w xeuugli x13faqbe x1vvkbs x1xmvt09 x1lliihq x1s928wv xhkezso x1gmr53x x1cpjm7i x1fgarty x1943h6x xudqn12 x3x7a5m x6prxxf xvq8zen xo1l8bm xzsf02u" dir="auto" style="word-break: break-word\; max-width: 100%\; display: block\; overflow-wrap: break-word\; font-family: inherit\; font-size: 0.9375rem\; min-width: 0px\; line-height: 1.3333\; color: var(--primary-text)\; margin-top: 16px\;">Featuring FIVE Minnesota singer/songwriters performing their original songs in an intimate setting with Q&amp\;A from the audience!</span></div>\n\n<div class="x11i5rnm xat24cr x1mh8g0r x1vvkbs xtlvy1s" style="margin: 0.5em 0px 0px\; overflow-wrap: break-word\; font-family: inherit\;"><span class="x193iq5w xeuugli x13faqbe x1vvkbs x1xmvt09 x1lliihq x1s928wv xhkezso x1gmr53x x1cpjm7i x1fgarty x1943h6x xudqn12 x3x7a5m x6prxxf xvq8zen xo1l8bm xzsf02u" dir="auto" style="word-break: break-word\; max-width: 100%\; display: block\; overflow-wrap: break-word\; font-family: inherit\; font-size: 0.9375rem\; min-width: 0px\; line-height: 1.3333\; color: var(--primary-text)\; margin-top: 16px\;">Ted Hajnasiewicz performs with a magnetizing honesty and reflective tone that speaks to the very essence of the human spirit. Ted is a prolific writer that enjoys co-writing in various styles.</span></div>\n\n<div class="x11i5rnm xat24cr x1mh8g0r x1vvkbs xtlvy1s" style="margin: 0.5em 0px 0px\; overflow-wrap: break-word\; font-family: inherit\;"><span class="x193iq5w xeuugli x13faqbe x1vvkbs x1xmvt09 x1lliihq x1s928wv xhkezso x1gmr53x x1cpjm7i x1fgarty x1943h6x xudqn12 x3x7a5m x6prxxf xvq8zen xo1l8bm xzsf02u" dir="auto" style="word-break: break-word\; max-width: 100%\; display: block\; overflow-wrap: break-word\; font-family: inherit\; font-size: 0.9375rem\; min-width: 0px\; line-height: 1.3333\; color: var(--primary-text)\; margin-top: 16px\;">Kelley Smith is a guitar picker with an old-timey voice. Her authentic\, rootsy sound\, falling somewhere between country\, folk\, bluegrass and old time music\, is a pitch-perfect vehicle for the themes she explores.</span></div>\n\n<div class="x11i5rnm xat24cr x1mh8g0r x1vvkbs xtlvy1s" style="margin: 0.5em 0px 0px\; overflow-wrap: break-word\; font-family: inherit\;"><span class="x193iq5w xeuugli x13faqbe x1vvkbs x1xmvt09 x1lliihq x1s928wv xhkezso x1gmr53x x1cpjm7i x1fgarty x1943h6x xudqn12 x3x7a5m x6prxxf xvq8zen xo1l8bm xzsf02u" dir="auto" style="word-break: break-word\; max-width: 100%\; display: block\; overflow-wrap: break-word\; font-family: inherit\; font-size: 0.9375rem\; min-width: 0px\; line-height: 1.3333\; color: var(--primary-text)\; margin-top: 16px\;">Sarah Morris\, called a &ldquo\;country-leaning Norah Jones&rdquo\; (Star Tribune)\, wields a keen eye and a captivating voice\; offering poignant\, relatable songs with timeless melodies.</span></div>\n\n<div class="x11i5rnm xat24cr x1mh8g0r x1vvkbs xtlvy1s" style="margin: 0.5em 0px 0px\; overflow-wrap: break-word\; font-family: inherit\;"><span class="x193iq5w xeuugli x13faqbe x1vvkbs x1xmvt09 x1lliihq x1s928wv xhkezso x1gmr53x x1cpjm7i x1fgarty x1943h6x xudqn12 x3x7a5m x6prxxf xvq8zen xo1l8bm xzsf02u" dir="auto" style="word-break: break-word\; max-width: 100%\; display: block\; overflow-wrap: break-word\; font-family: inherit\; font-size: 0.9375rem\; min-width: 0px\; line-height: 1.3333\; color: var(--primary-text)\; margin-top: 16px\;">Matthew French creates music to connect people through shared stories of love and loss. He has grown a loyal fan base through his engaging performances\, wry sense of humor and warm\, community-minded spirit.</span></div>\n\n<div class="x11i5rnm xat24cr x1mh8g0r x1vvkbs xtlvy1s" style="margin: 0.5em 0px 0px\; overflow-wrap: break-word\; font-family: inherit\;"><span class="x193iq5w xeuugli x13faqbe x1vvkbs x1xmvt09 x1lliihq x1s928wv xhkezso x1gmr53x x1cpjm7i x1fgarty x1943h6x xudqn12 x3x7a5m x6prxxf xvq8zen xo1l8bm xzsf02u" dir="auto" style="word-break: break-word\; max-width: 100%\; display: block\; overflow-wrap: break-word\; font-family: inherit\; font-size: 0.9375rem\; min-width: 0px\; line-height: 1.3333\; color: var(--primary-text)\; margin-top: 16px\;">Scott Jasmin crafts songs that pay tribute to the beauty and tragedy of everyday\, ordinary Midwestern small-town life&hellip\; its highs\, lows\, triumphs\, failures\, love\, loss\, and mundanity.</span></div>\n\n<div class="x11i5rnm xat24cr x1mh8g0r x1vvkbs xtlvy1s" style="margin: 0.5em 0px 0px\; overflow-wrap: break-word\; font-family: inherit\;"><span class="x193iq5w xeuugli x13faqbe x1vvkbs x1xmvt09 x1lliihq x1s928wv xhkezso x1gmr53x x1cpjm7i x1fgarty x1943h6x xudqn12 x3x7a5m x6prxxf xvq8zen xo1l8bm xzsf02u" dir="auto" style="word-break: break-word\; max-width: 100%\; display: block\; overflow-wrap: break-word\; font-family: inherit\; font-size: 0.9375rem\; min-width: 0px\; line-height: 1.3333\; color: var(--primary-text)\; margin-top: 16px\;">Emceed by the multitalented and irrepressible Debbie Center!</span></div>\n\n<div class="x11i5rnm xat24cr x1mh8g0r x1vvkbs xtlvy1s" style="margin: 0.5em 0px 0px\; overflow-wrap: break-word\; font-family: inherit\;"><span class="x193iq5w xeuugli x13faqbe x1vvkbs x1xmvt09 x1lliihq x1s928wv xhkezso x1gmr53x x1cpjm7i x1fgarty x1943h6x xudqn12 x3x7a5m x6prxxf xvq8zen xo1l8bm xzsf02u" dir="auto" style="word-break: break-word\; max-width: 100%\; display: block\; overflow-wrap: break-word\; font-family: inherit\; font-size: 0.9375rem\; min-width: 0px\; line-height: 1.3333\; color: var(--primary-text)\; margin-top: 16px\;">A limited number of GOLDEN TICKETS will be available for pre-purchase at the Armory office\, the bearer of which is entitled to FIRST CHOICE of seating (including the Armory&rsquo\;s unique and PRIMO selection of lounge chairs\, loveseats and sofas!)<br />\nGOLDEN TICKETS just $20!</span></div>\n\n<div class="x11i5rnm xat24cr x1mh8g0r x1vvkbs xtlvy1s" style="margin: 0.5em 0px 0px\; overflow-wrap: break-word\; font-family: inherit\;"><span class="x193iq5w xeuugli x13faqbe x1vvkbs x1xmvt09 x1lliihq x1s928wv xhkezso x1gmr53x x1cpjm7i x1fgarty x1943h6x xudqn12 x3x7a5m x6prxxf xvq8zen xo1l8bm xzsf02u" dir="auto" style="word-break: break-word\; max-width: 100%\; display: block\; overflow-wrap: break-word\; font-family: inherit\; font-size: 0.9375rem\; min-width: 0px\; line-height: 1.3333\; color: var(--primary-text)\; margin-top: 16px\;">General Admission $20 at the door</span></div>\n\n<div class="x11i5rnm xat24cr x1mh8g0r x1vvkbs xtlvy1s" style="margin: 0.5em 0px 0px\; overflow-wrap: break-word\; font-family: inherit\;"><span class="x193iq5w xeuugli x13faqbe x1vvkbs x1xmvt09 x1lliihq x1s928wv xhkezso x1gmr53x x1cpjm7i x1fgarty x1943h6x xudqn12 x3x7a5m x6prxxf xvq8zen xo1l8bm xzsf02u" dir="auto" style="word-break: break-word\; max-width: 100%\; display: block\; overflow-wrap: break-word\; font-family: inherit\; font-size: 0.9375rem\; min-width: 0px\; line-height: 1.3333\; color: var(--primary-text)\; margin-top: 16px\;">Refreshments will be available for purchase from Wine Not? and Revel Brewing of Park Rapids</span></div>\n\n<div class="x11i5rnm xat24cr x1mh8g0r x1vvkbs xtlvy1s" style="margin: 0.5em 0px 0px\; overflow-wrap: break-word\; font-family: inherit\;"><span class="x193iq5w xeuugli x13faqbe x1vvkbs x1xmvt09 x1lliihq x1s928wv xhkezso x1gmr53x x1cpjm7i x1fgarty x1943h6x xudqn12 x3x7a5m x6prxxf xvq8zen xo1l8bm xzsf02u" dir="auto" style="word-break: break-word\; max-width: 100%\; display: block\; overflow-wrap: break-word\; font-family: inherit\; font-size: 0.9375rem\; min-width: 0px\; line-height: 1.3333\; color: var(--primary-text)\; margin-top: 16px\;">This will be a SPECIAL night you won&rsquo\;t soon forget\, so SAVE THE DATE\, gather some friends and neighbors and PLAN TO ATTEND!</span></div>\n\n<div class="x11i5rnm xat24cr x1mh8g0r x1vvkbs xtlvy1s" style="margin: 0.5em 0px 0px\; overflow-wrap: break-word\; font-family: inherit\;"><span class="x193iq5w xeuugli x13faqbe x1vvkbs x1xmvt09 x1lliihq x1s928wv xhkezso x1gmr53x x1cpjm7i x1fgarty x1943h6x xudqn12 x3x7a5m x6prxxf xvq8zen xo1l8bm xzsf02u" dir="auto" style="word-break: break-word\; max-width: 100%\; display: block\; overflow-wrap: break-word\; font-family: inherit\; font-size: 0.9375rem\; min-width: 0px\; line-height: 1.3333\; color: var(--primary-text)\; margin-top: 16px\;">Doors open 6:30<br />\nShowtime 7:00</span></div>\n\n<div class="x11i5rnm xat24cr x1mh8g0r x1vvkbs xtlvy1s" style="margin: 0.5em 0px 0px\; overflow-wrap: break-word\; font-family: inherit\;"><span class="x193iq5w xeuugli x13faqbe x1vvkbs x1xmvt09 x1lliihq x1s928wv xhkezso x1gmr53x x1cpjm7i x1fgarty x1943h6x xudqn12 x3x7a5m x6prxxf xvq8zen xo1l8bm xzsf02u" dir="auto" style="word-break: break-word\; max-width: 100%\; display: block\; overflow-wrap: break-word\; font-family: inherit\; font-size: 0.9375rem\; min-width: 0px\; line-height: 1.3333\; color: var(--primary-text)\; margin-top: 16px\;">The Armory Arts &amp\; Events Center\, Scott Jasmin Music and Songwriters Showcase would like to thank our sponsors:<br />\nPark Rapids Hardwoods &amp\; Milling<br />\nWine Not? wine bar (Park Rapids)&nbsp\;</span>\n\n<div class="x1i10hfl xjbqb8w x6umtig x1b1mbwd xaqea5y xav7gou x9f619 x1ypdohk xt0psk2 xe8uvvx xdj266r x11i5rnm xat24cr x1mh8g0r xexx8yu x4uap5 x18d9i69 xkhd6sd x16tdsg8 x1hl2dhg xggy1nq x1a2a7pz xt0b8zv xzsf02u x1s688f" role="button" style="margin: 0px\; text-align: inherit\; padding: 0px\; outline: none\; border-width: 0px\; border-style: initial\; border-color: initial\; -webkit-tap-highlight-color: transparent\; font-weight: 600\; cursor: pointer\; box-sizing: border-box\; list-style: none\; touch-action: manipulation\; background-color: transparent\; display: inline\; color: var(--primary-text)\; font-family: inherit\;" tabindex="0">&nbsp\;</div>\n</div>\n</div>\n</div>\n
LOCATION:Armory Arts and Events Center 203 Park Avenue South Park Rapids\, MN
UID:e.91.41597
SEQUENCE:3
DTSTAMP:20260424T151956Z
URL:https://business.parkrapids.com/events/details/songwriters-showcase-41597
END:VEVENT

END:VCALENDAR
