BEGIN:VCALENDAR
VERSION:2.0
PRODID:-//ChamberMaster//Event Calendar 2.0//EN
METHOD:PUBLISH
X-PUBLISHED-TTL:P3D
REFRESH-INTERVAL:P3D
CALSCALE:GREGORIAN
BEGIN:VEVENT
DTSTART:20061024T050000Z
DTEND:20061024T050000Z
X-MICROSOFT-CDO-ALLDAYEVENT:FALSE
SUMMARY:Sons of Norway presents The Habbestad Ensemble
DESCRIPTION:On Tuesday\, October 24th\, the Nordskogen Lodge of the Sons of Norway hosts The Habbestad Ensemble from Norway for a musical concert at Calvary Lutheran Church\, Park Rapids\, MN\, 7:00pm.  Free will offering.  \n\nThe concert will include the Terje Vigen\, a Norwegian Saga by Henrik Ibsen set to music by Kjell Habbestad.  The Habbestad Ensemble includes seven family members singing\, reciting\, and playing violin\, cello\, flute and piano.  Kjell  Habbestad is a composer and a member of the faculty at the Norwegian Academy of Music\; children are pursuing music performance degrees.\n\nThis is their eighth concert tour in the United States.
X-ALT-DESC;FMTTYPE=text/html:On Tuesday\, October 24th\, the Nordskogen Lodge of the Sons of Norway hosts The Habbestad Ensemble from Norway for a musical concert at Calvary Lutheran Church\, Park Rapids\, MN\, 7:00pm.  Free will offering.  \n\nThe concert will include the Terje Vigen\, a Norwegian Saga by Henrik Ibsen set to music by Kjell Habbestad.  The Habbestad Ensemble includes seven family members singing\, reciting\, and playing violin\, cello\, flute and piano.  Kjell  Habbestad is a composer and a member of the faculty at the Norwegian Academy of Music\; children are pursuing music performance degrees.\n\nThis is their eighth concert tour in the United States.
LOCATION:Calvary Lutheran Church\, Park Rapids
UID:e.91.217
SEQUENCE:3
DTSTAMP:20260420T092048Z
URL:https://business.parkrapids.com/events/details/sons-of-norway-presents-the-habbestad-ensemble-10-24-2006-217
END:VEVENT

END:VCALENDAR
