BEGIN:VCALENDAR
VERSION:2.0
PRODID:-//ChamberMaster//Event Calendar 2.0//EN
METHOD:PUBLISH
X-PUBLISHED-TTL:P3D
REFRESH-INTERVAL:P3D
CALSCALE:GREGORIAN
BEGIN:VEVENT
DTSTART:20060504T050000Z
DTEND:20060504T050000Z
X-MICROSOFT-CDO-ALLDAYEVENT:FALSE
SUMMARY:Sons of Norway program\, The Stavig Letters:
DESCRIPTION:The Story of a Norwegian Immigrant
X-ALT-DESC;FMTTYPE=text/html:The Story of a Norwegian Immigrant
LOCATION:Calvary Lutheran Church
UID:e.91.18
SEQUENCE:3
DTSTAMP:20260420T170855Z
URL:https://business.parkrapids.com/events/details/sons-of-norway-program-the-stavig-letters-05-04-2006-18
END:VEVENT

END:VCALENDAR
