BEGIN:VCALENDAR
VERSION:2.0
PRODID:-//ChamberMaster//Event Calendar 2.0//EN
METHOD:PUBLISH
X-PUBLISHED-TTL:P3D
REFRESH-INTERVAL:P3D
CALSCALE:GREGORIAN
BEGIN:VEVENT
DTSTART:20070316T050000Z
DTEND:20070317T050000Z
X-MICROSOFT-CDO-ALLDAYEVENT:FALSE
SUMMARY:St. Urho Day Celebration
DESCRIPTION:An exciting way for citizens to celebrate their Finnish Ancestory.
X-ALT-DESC;FMTTYPE=text/html:An exciting way for citizens to celebrate their Finnish Ancestory.
LOCATION:Menahga\, MN
UID:e.91.3
SEQUENCE:3
DTSTAMP:20260420T005641Z
URL:https://business.parkrapids.com/events/details/st-urho-day-celebration-03-16-2007-3
END:VEVENT

END:VCALENDAR
