BEGIN:VCALENDAR
VERSION:2.0
PRODID:-//ChamberMaster//Event Calendar 2.0//EN
METHOD:PUBLISH
X-PUBLISHED-TTL:P3D
REFRESH-INTERVAL:P3D
CALSCALE:GREGORIAN
BEGIN:VEVENT
DTSTART:20070723T050000Z
DTEND:20070724T050000Z
X-MICROSOFT-CDO-ALLDAYEVENT:FALSE
SUMMARY:Star Tribune MS TRAM Bike Tour
DESCRIPTION:Minnesota's northern lake country hosts 2007 Star Tribune MS TRAM Bike Tour\nYou betcha\, the Star Tribune MS TRAM Bike Tour will take you even closer to the culture and people that make up the Land of 10\,000 Lakes. Enjoy five nights of lake country hospitality during this cycling vacation. Hand-picked roads\, beautiful campsites\, Midwest cookin' and homegrown entertainment are just some of the things that have made this tour the ''Ultimate Minnesota Road Trip'' for 18 years. You can register now don'cha know!
X-ALT-DESC;FMTTYPE=text/html:Minnesota's northern lake country hosts 2007 Star Tribune MS TRAM Bike Tour\nYou betcha\, the Star Tribune MS TRAM Bike Tour will take you even closer to the culture and people that make up the Land of 10\,000 Lakes. Enjoy five nights of lake country hospitality during this cycling vacation. Hand-picked roads\, beautiful campsites\, Midwest cookin' and homegrown entertainment are just some of the things that have made this tour the ''Ultimate Minnesota Road Trip'' for 18 years. You can register now don'cha know!\n\n
LOCATION:Heartland Park camping
UID:e.91.258
SEQUENCE:3
DTSTAMP:20260419T175228Z
URL:https://business.parkrapids.com/events/details/star-tribune-ms-tram-bike-tour-07-23-2007-258
END:VEVENT

END:VCALENDAR
