BEGIN:VCALENDAR
VERSION:2.0
PRODID:-//ChamberMaster//Event Calendar 2.0//EN
METHOD:PUBLISH
X-PUBLISHED-TTL:P3D
REFRESH-INTERVAL:P3D
CALSCALE:GREGORIAN
BEGIN:VEVENT
DTSTART:20060604T050000Z
DTEND:20060604T050000Z
X-MICROSOFT-CDO-ALLDAYEVENT:FALSE
SUMMARY:State Park Open House
DESCRIPTION:
X-ALT-DESC;FMTTYPE=text/html:
LOCATION:Itasca State Park
UID:e.91.30
SEQUENCE:3
DTSTAMP:20260420T154011Z
URL:https://business.parkrapids.com/events/details/state-park-open-house-06-04-2006-30
END:VEVENT

END:VCALENDAR
