BEGIN:VCALENDAR
VERSION:2.0
PRODID:-//ChamberMaster//Event Calendar 2.0//EN
METHOD:PUBLISH
X-PUBLISHED-TTL:P3D
REFRESH-INTERVAL:P3D
CALSCALE:GREGORIAN
BEGIN:VEVENT
DTSTART;VALUE=DATE:20230427
DTEND;VALUE=DATE:20230428
TRANSP:TRANSPARENT
X-MICROSOFT-CDO-ALLDAYEVENT:TRUE
SUMMARY:Stencil Door Hanger Class
DESCRIPTION:Come make a beautiful door hanger using stencils with Lily Hadrava and The Shop in the Pines !! Cost is $40 per 15" round sign. RSVP required. Call Wine Not at 218-366-2071 and mark "going" on this event to save your seat!
X-ALT-DESC;FMTTYPE=text/html:<span style="color: rgb(5\, 5\, 5)\; font-family: &quot\;Segoe UI Historic&quot\;\, &quot\;Segoe UI&quot\;\, Helvetica\, Arial\, sans-serif\; font-size: 15px\;">Come make a beautiful door hanger using stencils with Lily Hadrava and The Shop in the Pines !! Cost is $40 per 15&quot\; round sign. RSVP required. Call Wine Not at 218-366-2071 and mark &quot\;going&quot\; on this event to save your seat!</span>
LOCATION:Wine Not?
UID:e.91.41727
SEQUENCE:3
DTSTAMP:20260424T151858Z
URL:https://business.parkrapids.com/events/details/stencil-door-hanger-class-41727
END:VEVENT

END:VCALENDAR
