BEGIN:VCALENDAR
VERSION:2.0
PRODID:-//ChamberMaster//Event Calendar 2.0//EN
METHOD:PUBLISH
X-PUBLISHED-TTL:P3D
REFRESH-INTERVAL:P3D
CALSCALE:GREGORIAN
BEGIN:VEVENT
DTSTART;VALUE=DATE:20070826
DTEND;VALUE=DATE:20070827
TRANSP:TRANSPARENT
X-MICROSOFT-CDO-ALLDAYEVENT:TRUE
SUMMARY:Stephen Hall in Concert
DESCRIPTION:Stephen Hill in Concert
X-ALT-DESC;FMTTYPE=text/html:Stephen Hill in Concert
LOCATION:Hubbard United Methodist Church
UID:e.91.280
SEQUENCE:3
DTSTAMP:20260419T160639Z
URL:https://business.parkrapids.com/events/details/stephen-hall-in-concert-08-26-2007-280
END:VEVENT

END:VCALENDAR
