BEGIN:VCALENDAR
VERSION:2.0
PRODID:-//ChamberMaster//Event Calendar 2.0//EN
METHOD:PUBLISH
X-PUBLISHED-TTL:P3D
REFRESH-INTERVAL:P3D
CALSCALE:GREGORIAN
BEGIN:VEVENT
DTSTART:20060714T050000Z
DTEND:20060716T050000Z
X-MICROSOFT-CDO-ALLDAYEVENT:FALSE
SUMMARY:Stoney Creek Artists
DESCRIPTION:The exhibit is a showcase and sale of original drawings\, paintings\, pastels\, collages and cards at reasonable prices. The art reflects the artists' Minnesota northwoods\, people and places as well as individual whims.
X-ALT-DESC;FMTTYPE=text/html:The exhibit is a showcase and sale of original drawings\, paintings\, pastels\, collages and cards at reasonable prices. The art reflects the artists' Minnesota northwoods\, people and places as well as individual whims.
LOCATION:C'mon Inn - Park Rapids
UID:e.91.49
SEQUENCE:3
DTSTAMP:20260420T153615Z
URL:https://business.parkrapids.com/events/details/stoney-creek-artists-07-14-2006-49
END:VEVENT

END:VCALENDAR
