BEGIN:VCALENDAR
VERSION:2.0
PRODID:-//ChamberMaster//Event Calendar 2.0//EN
METHOD:PUBLISH
X-PUBLISHED-TTL:P3D
REFRESH-INTERVAL:P3D
CALSCALE:GREGORIAN
BEGIN:VEVENT
DTSTART:20260425T140000Z
DTEND:20260425T210000Z
X-MICROSOFT-CDO-ALLDAYEVENT:FALSE
SUMMARY:Studio 176 Season Opener
DESCRIPTION:Saturday\, April 25 | 9am to 4pm\n\nLocated: 176 3rd St W (across from Bella Cafe)\n\n\n\nWith so much happening throughout downtown\, it felt like the perfect time to open our doors for the season a week early to be part of a full day celebrating the arts.\n\nThe last couple months we've been busy getting the gallery ready with a refreshed layout and new work throughout the space and we're excited to welcome a new artist member\, Cheryl Bannes.\n\nIt's been fun to see everything come together and we are excited to share what everyone has been working on! Have to say\, there's something pretty darn special about seeing it all come together again. We're especially looking forward to a new season of creativity\, connection\, and inspiration with you we missed you and can't wait to catch up :)!
X-ALT-DESC;FMTTYPE=text/html:<p class="isSelectedEnd" style="margin: 10px 0px\; padding: 0px\; text-size-adjust: 100%\; color: rgb(117\, 117\, 117)\; font-family: Helvetica\; font-size: 16px\; line-height: 24px\;"><span style="color: rgb(0\, 0\, 0)\;"><span style="font-family: roboto\, &quot\;helvetica neue&quot\;\, helvetica\, arial\, sans-serif\;"><span style="font-size: 18px\;">Saturday\, April 25 | 9am to 4pm<br />\nLocated: 176 3rd St W (across from Bella Cafe)<br />\n<br />\nWith so much happening throughout downtown\, it felt like the perfect time to open our doors for the season a week early to be part of a full day celebrating the arts.</span></span></span></p>\n\n<p class="isSelectedEnd" style="margin: 10px 0px\; padding: 0px\; text-size-adjust: 100%\; color: rgb(117\, 117\, 117)\; font-family: Helvetica\; font-size: 16px\; line-height: 24px\;"><span style="color: rgb(0\, 0\, 0)\;"><span style="font-family: roboto\, &quot\;helvetica neue&quot\;\, helvetica\, arial\, sans-serif\;"><span style="font-size: 18px\;">The last couple months we&rsquo\;ve been busy getting the gallery ready&mdash\;with a refreshed layout and new work throughout the space&mdash\;and we&rsquo\;re excited to welcome a new artist member\, Cheryl Bannes.</span></span></span></p>\n\n<p class="isSelectedEnd" style="margin: 10px 0px\; padding: 0px\; text-size-adjust: 100%\; color: rgb(117\, 117\, 117)\; font-family: Helvetica\; font-size: 16px\; line-height: 24px\;"><span style="color: rgb(0\, 0\, 0)\;"><span style="font-family: roboto\, &quot\;helvetica neue&quot\;\, helvetica\, arial\, sans-serif\;"><span style="font-size: 18px\;">It&rsquo\;s been fun to see everything come together and we are excited to share what everyone has been working on! Have to say\, there&rsquo\;s something pretty darn special about seeing it all come together again. We&rsquo\;re especially looking forward to a new season of creativity\, connection\, and inspiration with you&ndash\;we missed you and can&#39\;t wait to catch up :)!</span></span></span></p>\n
LOCATION:
UID:e.91.49487
SEQUENCE:3
DTSTAMP:20260422T085329Z
URL:https://business.parkrapids.com/events/details/studio-176-season-opener-49487
END:VEVENT

END:VCALENDAR
