BEGIN:VCALENDAR
VERSION:2.0
PRODID:-//ChamberMaster//Event Calendar 2.0//EN
METHOD:PUBLISH
X-PUBLISHED-TTL:P3D
REFRESH-INTERVAL:P3D
CALSCALE:GREGORIAN
BEGIN:VEVENT
DTSTART;VALUE=DATE:20220707
DTEND;VALUE=DATE:20220708
TRANSP:TRANSPARENT
X-MICROSOFT-CDO-ALLDAYEVENT:TRUE
SUMMARY:Summerhill Kids Club Session #1
DESCRIPTION:Kiddos age 6-12 will tackle character based challenges that are grounded in social-emotional learning and development. Each day students will learn experientially while developing resilience\, overcoming challenges\, working together\, and improving their self confidence. Students will participate in dozens of activities including: High ropes challenges\, Nigerian Dwarf Goat petting zoo\, team building\, slingshot range\, scavenger hunts\, low ropes playground\, crafts\, and much more. We will feature activities that are developmentally appropriate for your kiddo.
X-ALT-DESC;FMTTYPE=text/html:<span style="color: rgb(5\, 5\, 5)\; font-family: &quot\;Segoe UI Historic&quot\;\, &quot\;Segoe UI&quot\;\, Helvetica\, Arial\, sans-serif\; font-size: 15px\;">Kiddos age 6-12 will tackle character based challenges that are grounded in social-emotional learning and development. Each day students will learn experientially while developing resilience\, overcoming challenges\, working together\, and improving their self confidence. Students will participate in dozens of activities including: High ropes challenges\, Nigerian Dwarf Goat petting zoo\, team building\, slingshot range\, scavenger hunts\, low ropes playground\, crafts\, and much more. We will feature activities that are developmentally appropriate for your kiddo.</span>
LOCATION:Summerhill Adventures 24009 US-71\, Park Rapids
UID:e.91.39337
SEQUENCE:3
DTSTAMP:20260424T201550Z
URL:https://business.parkrapids.com/events/details/summerhill-kids-club-session-1-07-07-2022-39337
END:VEVENT

END:VCALENDAR
