BEGIN:VCALENDAR
VERSION:2.0
PRODID:-//ChamberMaster//Event Calendar 2.0//EN
METHOD:PUBLISH
X-PUBLISHED-TTL:P3D
REFRESH-INTERVAL:P3D
CALSCALE:GREGORIAN
BEGIN:VEVENT
DTSTART;VALUE=DATE:20070727
DTEND;VALUE=DATE:20070729
TRANSP:TRANSPARENT
X-MICROSOFT-CDO-ALLDAYEVENT:TRUE
SUMMARY:Summertime Art & Craft Festival/Women's Showcase
DESCRIPTION:Large Craft Festival and Women's Showcase at Century School in Park Rapids.
X-ALT-DESC;FMTTYPE=text/html:Large Craft Festival and Women's Showcase at Century School in Park Rapids.
LOCATION:Century School\, Park Rapids
UID:e.91.304
SEQUENCE:3
DTSTAMP:20260419T175409Z
URL:https://business.parkrapids.com/events/details/summertime-art-craft-festival-women-s-showcase-07-27-2007-304
END:VEVENT

END:VCALENDAR
