BEGIN:VCALENDAR
VERSION:2.0
PRODID:-//ChamberMaster//Event Calendar 2.0//EN
METHOD:PUBLISH
X-PUBLISHED-TTL:P3D
REFRESH-INTERVAL:P3D
CALSCALE:GREGORIAN
BEGIN:VEVENT
DTSTART:20060401T060000Z
DTEND:20060401T060000Z
X-MICROSOFT-CDO-ALLDAYEVENT:FALSE
SUMMARY:Tall Pine Toms Wild Turkey Federation Banquet
DESCRIPTION:
X-ALT-DESC;FMTTYPE=text/html:
LOCATION:Park Rapids American Legion
UID:e.91.8
SEQUENCE:3
DTSTAMP:20260420T185713Z
URL:https://business.parkrapids.com/events/details/tall-pine-toms-wild-turkey-federation-banquet-04-01-2006-8
END:VEVENT

END:VCALENDAR
