BEGIN:VCALENDAR
VERSION:2.0
PRODID:-//ChamberMaster//Event Calendar 2.0//EN
METHOD:PUBLISH
X-PUBLISHED-TTL:P3D
REFRESH-INTERVAL:P3D
CALSCALE:GREGORIAN
BEGIN:VEVENT
DTSTART:20070805T050000Z
DTEND:20070805T050000Z
X-MICROSOFT-CDO-ALLDAYEVENT:FALSE
SUMMARY:Taste of Dorset
DESCRIPTION:Be sure to attend the annual 'A Taste of Dorset' which is held the first Sunday of August. Walk the main street of Dorset for all kinds of food\, entertainment\, games and socializing in a town square-like atmosphere. Food is served from 11:30 AM until 3:00 PM. Shuttle rides available on Hwy. 226. See you there!
X-ALT-DESC;FMTTYPE=text/html:Be sure to attend the annual 'A Taste of Dorset' which is held the first Sunday of August. Walk the main street of Dorset for all kinds of food\, entertainment\, games and socializing in a town square-like atmosphere. Food is served from 11:30 AM until 3:00 PM. Shuttle rides available on Hwy. 226. See you there!\n
LOCATION:Dorset\, MN
UID:e.91.58
SEQUENCE:3
DTSTAMP:20260419T160643Z
URL:https://business.parkrapids.com/events/details/taste-of-dorset-08-05-2007-58
END:VEVENT

END:VCALENDAR
