BEGIN:VCALENDAR
VERSION:2.0
PRODID:-//ChamberMaster//Event Calendar 2.0//EN
METHOD:PUBLISH
X-PUBLISHED-TTL:P3D
REFRESH-INTERVAL:P3D
CALSCALE:GREGORIAN
BEGIN:VEVENT
DTSTART;VALUE=DATE:20240817
DTEND;VALUE=DATE:20240818
TRANSP:TRANSPARENT
X-MICROSOFT-CDO-ALLDAYEVENT:TRUE
SUMMARY:The Castaways Live at Clancy's
DESCRIPTION:The Castaway's Live
X-ALT-DESC;FMTTYPE=text/html:The Castaway&#39\;s Live
LOCATION:Clancy's on Island Lake at Vacationaire Resort
UID:e.91.43769
SEQUENCE:3
DTSTAMP:20260419T120928Z
URL:https://business.parkrapids.com/events/details/the-castaways-live-at-clancy-s-43769
END:VEVENT

END:VCALENDAR
