BEGIN:VCALENDAR
VERSION:2.0
PRODID:-//ChamberMaster//Event Calendar 2.0//EN
METHOD:PUBLISH
X-PUBLISHED-TTL:P3D
REFRESH-INTERVAL:P3D
CALSCALE:GREGORIAN
BEGIN:VEVENT
DTSTART:20060701T050000Z
DTEND:20060703T050000Z
X-MICROSOFT-CDO-ALLDAYEVENT:FALSE
SUMMARY:The PBR Challenger Tour
DESCRIPTION:Come to Park Rapids July 1 to July 3 for the finest in Professional Bull Riding.  Check back later for more information and event updates.
X-ALT-DESC;FMTTYPE=text/html:Come to Park Rapids July 1 to July 3 for the finest in Professional Bull Riding.  Check back later for more information and event updates.
LOCATION:Jokela Rodeo Grounds
UID:e.91.112
SEQUENCE:3
DTSTAMP:20260420T153705Z
URL:https://business.parkrapids.com/events/details/the-pbr-challenger-tour-07-01-2006-112
END:VEVENT

END:VCALENDAR
