BEGIN:VCALENDAR
VERSION:2.0
PRODID:-//ChamberMaster//Event Calendar 2.0//EN
METHOD:PUBLISH
X-PUBLISHED-TTL:P3D
REFRESH-INTERVAL:P3D
CALSCALE:GREGORIAN
BEGIN:VEVENT
DTSTART;VALUE=DATE:20240628
DTEND;VALUE=DATE:20240629
TRANSP:TRANSPARENT
X-MICROSOFT-CDO-ALLDAYEVENT:TRUE
SUMMARY:The Toonies Family FUN Show
DESCRIPTION:Friday June 28  10:30 AM\n\nPark Rapids Library\n\n210 1st St W\, Park Rapids\, MN 56470\n\nThe Toonies Family FUN Show
X-ALT-DESC;FMTTYPE=text/html:<span style="color: rgb(0\, 0\, 0)\; font-family: &quot\;Open Sans&quot\;\, Arial\, sans-serif\; font-size: 18px\; font-weight: 700\; text-align: center\;">Friday June 28&nbsp\; 10:30 AM</span><br style="box-sizing: border-box\; color: rgb(0\, 0\, 0)\; font-family: &quot\;Open Sans&quot\;\, Arial\, sans-serif\; font-size: 18px\; font-weight: 700\; text-align: center\;" />\n<span style="color: rgb(0\, 0\, 0)\; font-family: &quot\;Open Sans&quot\;\, Arial\, sans-serif\; font-size: 18px\; font-weight: 700\; text-align: center\;">Park Rapids Library</span><br style="box-sizing: border-box\; color: rgb(0\, 0\, 0)\; font-family: &quot\;Open Sans&quot\;\, Arial\, sans-serif\; font-size: 18px\; font-weight: 700\; text-align: center\;" />\n<span style="color: rgb(0\, 0\, 0)\; font-family: &quot\;Open Sans&quot\;\, Arial\, sans-serif\; font-size: 18px\; font-weight: 700\; text-align: center\;">210 1st St W\, Park Rapids\, MN 56470</span><br style="box-sizing: border-box\; color: rgb(0\, 0\, 0)\; font-family: &quot\;Open Sans&quot\;\, Arial\, sans-serif\; font-size: 18px\; font-weight: 700\; text-align: center\;" />\n<span style="box-sizing: border-box\; margin: 0px\; padding: 0px\; border: 0px\; outline: 0px\; font-size: 18px\; text-size-adjust: 100%\; vertical-align: baseline\; background-image: initial\; background-position: initial\; background-size: initial\; background-repeat: initial\; background-attachment: initial\; background-origin: initial\; background-clip: initial\; font-family: &quot\;Open Sans&quot\;\, Arial\, sans-serif\; font-weight: 700\; text-align: center\; color: rgb(131\, 0\, 233)\;">The Toonies Family FUN Show</span>
LOCATION:
UID:e.91.44801
SEQUENCE:3
DTSTAMP:20260420T083813Z
URL:https://business.parkrapids.com/events/details/the-toonies-family-fun-show-44801
END:VEVENT

END:VCALENDAR
