BEGIN:VCALENDAR
VERSION:2.0
PRODID:-//ChamberMaster//Event Calendar 2.0//EN
METHOD:PUBLISH
X-PUBLISHED-TTL:P3D
REFRESH-INTERVAL:P3D
CALSCALE:GREGORIAN
BEGIN:VEVENT
DTSTART:20060923T050000Z
DTEND:20060923T050000Z
X-MICROSOFT-CDO-ALLDAYEVENT:FALSE
SUMMARY:Three Dog Night
DESCRIPTION:Three Dog Night\, the chart-topping American band of the late 1960s and 1970s\, still actively touring the country\, will entertain audiences at Shooting Star CasinoSM for two shows.\n\n \n\nDate: Saturday\, September 23\n\nTimes: 7 and 9 pm\n\nTickets: $20\, $14\, $10\, $7\; available at the casino or by calling 800-313-7469.
X-ALT-DESC;FMTTYPE=text/html:Three Dog Night\, the chart-topping American band of the late 1960s and 1970s\, still actively touring the country\, will entertain audiences at Shooting Star CasinoSM for two shows.\n\n \n\nDate: Saturday\, September 23\n\nTimes: 7 and 9 pm\n\nTickets: $20\, $14\, $10\, $7\; available at the casino or by calling 800-313-7469.\n
LOCATION:Shooting Star Casino
UID:e.91.214
SEQUENCE:3
DTSTAMP:20260420T104905Z
URL:https://business.parkrapids.com/events/details/three-dog-night-09-23-2006-214
END:VEVENT

END:VCALENDAR
