BEGIN:VCALENDAR
VERSION:2.0
PRODID:-//ChamberMaster//Event Calendar 2.0//EN
METHOD:PUBLISH
X-PUBLISHED-TTL:P3D
REFRESH-INTERVAL:P3D
CALSCALE:GREGORIAN
BEGIN:VEVENT
DTSTART:20260425T150000Z
DTEND:20260425T210000Z
X-MICROSOFT-CDO-ALLDAYEVENT:FALSE
SUMMARY:Tin Ceiling/CREATE Park Rapids
DESCRIPTION:Tin Ceiling\n\nSaturday\, April 25 |10am to 4pm\n\nLocated at: 113 Main Ave S (next to The Park Theater)\n\nMake sure to pop in to see what's new this season and what artists have been working on this winter always plenty "art" tacular pieces and unique peices to take in.\n\n\n\nAnd if you didn't know\, they just launched their Etsy shop earlier this month\, now offering artwork of all kinds online click here to check it out. You can also check out their Facebook page to see what the CREATE studio has been up to and what they've been creating lately\, I know I want one of the cool bird houses :)!
X-ALT-DESC;FMTTYPE=text/html:<p class="isSelectedEnd" style="margin: 10px 0px\; padding: 0px\; text-size-adjust: 100%\; color: rgb(117\, 117\, 117)\; font-family: Helvetica\; font-size: 16px\; line-height: 24px\;"><span style="color: rgb(0\, 0\, 0)\;"><span style="font-size: 18px\;"><strong>Tin Ceiling</strong></span><br />\n<span style="font-family: roboto\, &quot\;helvetica neue&quot\;\, helvetica\, arial\, sans-serif\;"><span style="font-size: 18px\;">Saturday\, April 25 |</span></span><span style="font-size: 18px\;">10am to 4pm<br />\n<span style="font-family: roboto\, &quot\;helvetica neue&quot\;\, helvetica\, arial\, sans-serif\;">Located at:&nbsp\;<span class="LrzXr">113 Main Ave S (next to The Park Theater)</span></span></span></span></p>\n\n<p style="margin: 10px 0px\; padding: 0px\; text-size-adjust: 100%\; color: rgb(117\, 117\, 117)\; font-family: Helvetica\; font-size: 16px\; line-height: 24px\;"><span style="color: rgb(0\, 0\, 0)\;"><span style="font-size: 18px\;"><span style="font-family: roboto\, &quot\;helvetica neue&quot\;\, helvetica\, arial\, sans-serif\;">Make sure to pop in to see what&rsquo\;s new this season and what artists have been working on this winter&ndash\;always plenty &quot\;art&quot\; tacular pieces and unique peices to take in.</span></span></span><br />\n<br />\n<span style="font-size: 18px\;"><span style="font-family: roboto\, &quot\;helvetica neue&quot\;\, helvetica\, arial\, sans-serif\;"><span style="color: rgb(0\, 0\, 0)\;">And if you didn&rsquo\;t know\, they just launched their Etsy shop earlier this month\, now offering artwork of all kinds online&nbsp\;</span></span></span><span style="color: rgb(0\, 0\, 0)\;"><span style="font-size: 18px\;"><span style="font-family: roboto\, &quot\;helvetica neue&quot\;\, helvetica\, arial\, sans-serif\;"><a href="https://www.etsy.com/shop/CreateParkRapids?fbclid=IwY2xjawROrnhleHRuA2FlbQIxMABicmlkETEzeUhYdTNueWxtZ3E3WEhWc3J0YwZhcHBfaWQQMjIyMDM5MTc4ODIwMDg5MgABHtmU0WgOpRkEz3pab74IO2-55vc-swqzBQ9_qbmDPXitx2GRMMhQ4PUtDboG_aem_6tx0chcdBKVv_dnKaqihAQ" style="text-size-adjust: 100%\; color: rgb(0\, 124\, 137)\;" target="_blank">click here</a>&nbsp\;to check it out. You can also check out their&nbsp\;<a href="https://www.facebook.com/TheTinCeiling.Dac" style="text-size-adjust: 100%\; color: rgb(0\, 124\, 137)\;" target="_blank">Facebook&nbsp\;</a>page to see what the CREATE studio has been up to and what they&rsquo\;ve been creating lately\, I know I want one of the cool bird houses :)!</span></span></span></p>\n
LOCATION:
UID:e.91.49489
SEQUENCE:3
DTSTAMP:20260424T091146Z
URL:https://business.parkrapids.com/events/details/tin-ceiling-create-park-rapids-49489
END:VEVENT

END:VCALENDAR
