BEGIN:VCALENDAR
VERSION:2.0
PRODID:-//ChamberMaster//Event Calendar 2.0//EN
METHOD:PUBLISH
X-PUBLISHED-TTL:P3D
REFRESH-INTERVAL:P3D
CALSCALE:GREGORIAN
BEGIN:VEVENT
DTSTART:20071031T050000Z
DTEND:20071031T050000Z
X-MICROSOFT-CDO-ALLDAYEVENT:FALSE
SUMMARY:Trick or Treat Park Rapids
DESCRIPTION:Participating stores will hand out candy to trick or treaters from 3-6 pm and the fun continues at Heritage Living Center where candy will be handed out from 6:30 until the candy runs out.
X-ALT-DESC;FMTTYPE=text/html:Participating stores will hand out candy to trick or treaters from 3-6 pm and the fun continues at Heritage Living Center where candy will be handed out from 6:30 until the candy runs out.
LOCATION:Downtown Park Rapids & Heritage Living Center
UID:e.91.94
SEQUENCE:3
DTSTAMP:20260419T124455Z
URL:https://business.parkrapids.com/events/details/trick-or-treat-park-rapids-10-31-2007-94
END:VEVENT

END:VCALENDAR
