BEGIN:VCALENDAR
VERSION:2.0
PRODID:-//ChamberMaster//Event Calendar 2.0//EN
METHOD:PUBLISH
X-PUBLISHED-TTL:P3D
REFRESH-INTERVAL:P3D
CALSCALE:GREGORIAN
BEGIN:VEVENT
DTSTART;VALUE=DATE:20230421
DTEND;VALUE=DATE:20230422
TRANSP:TRANSPARENT
X-MICROSOFT-CDO-ALLDAYEVENT:TRUE
SUMMARY:Trivia FrYAY at Revel Brewing
DESCRIPTION:Weekly event with new celebrity hosts each week! Stop on in and grab some delicious beer\, eat some yummy food\, and get your thinking caps on!
X-ALT-DESC;FMTTYPE=text/html:Weekly event with new celebrity hosts each week! Stop on in and grab some delicious beer\, eat some yummy food\, and get your thinking caps on!
LOCATION:Revel Brewing
UID:e.91.40159
SEQUENCE:3
DTSTAMP:20260424T154052Z
URL:https://business.parkrapids.com/events/details/trivia-fryay-at-revel-brewing-04-21-2023-40159
END:VEVENT

END:VCALENDAR
