BEGIN:VCALENDAR
VERSION:2.0
PRODID:-//ChamberMaster//Event Calendar 2.0//EN
METHOD:PUBLISH
X-PUBLISHED-TTL:P3D
REFRESH-INTERVAL:P3D
CALSCALE:GREGORIAN
BEGIN:VEVENT
DTSTART:20060610T050000Z
DTEND:20060610T050000Z
X-MICROSOFT-CDO-ALLDAYEVENT:FALSE
SUMMARY:Two-Man Best Ball/Scramble
DESCRIPTION:
X-ALT-DESC;FMTTYPE=text/html:
LOCATION:Headwaters Country Club - Park Rapids
UID:e.91.36
SEQUENCE:3
DTSTAMP:20260420T154132Z
URL:https://business.parkrapids.com/events/details/two-man-best-ball-scramble-06-10-2006-36
END:VEVENT

END:VCALENDAR
