BEGIN:VCALENDAR
VERSION:2.0
PRODID:-//ChamberMaster//Event Calendar 2.0//EN
METHOD:PUBLISH
X-PUBLISHED-TTL:P3D
REFRESH-INTERVAL:P3D
CALSCALE:GREGORIAN
BEGIN:VEVENT
DTSTART:20060723T050000Z
DTEND:20060723T050000Z
X-MICROSOFT-CDO-ALLDAYEVENT:FALSE
SUMMARY:Upper Mississippians Live
DESCRIPTION:14 piece big band and swing orchestra
X-ALT-DESC;FMTTYPE=text/html:14 piece big band and swing orchestra
LOCATION:Zhateau Zorbaz
UID:e.91.198
SEQUENCE:3
DTSTAMP:20260420T140105Z
URL:https://business.parkrapids.com/events/details/upper-mississippians-live-07-23-2006-198
END:VEVENT

END:VCALENDAR
