BEGIN:VCALENDAR
VERSION:2.0
PRODID:-//ChamberMaster//Event Calendar 2.0//EN
METHOD:PUBLISH
X-PUBLISHED-TTL:P3D
REFRESH-INTERVAL:P3D
CALSCALE:GREGORIAN
BEGIN:VEVENT
DTSTART:20060930T050000Z
DTEND:20060930T050000Z
X-MICROSOFT-CDO-ALLDAYEVENT:FALSE
SUMMARY:Walk For Obesity
DESCRIPTION:The Walk for Obesity is a national event being held all over the US on the same day\, Sept. 30\, 2006. We are the only site in Minnesota holding the walk.
X-ALT-DESC;FMTTYPE=text/html:The Walk for Obesity is a national event being held all over the US on the same day\, Sept. 30\, 2006. We are the only site in Minnesota holding the walk. 
LOCATION:Century School - Park Rapids MN
UID:e.91.205
SEQUENCE:3
DTSTAMP:20260420T110318Z
URL:https://business.parkrapids.com/events/details/walk-for-obesity-09-30-2006-205
END:VEVENT

END:VCALENDAR
