BEGIN:VCALENDAR
VERSION:2.0
PRODID:-//ChamberMaster//Event Calendar 2.0//EN
METHOD:PUBLISH
X-PUBLISHED-TTL:P3D
REFRESH-INTERVAL:P3D
CALSCALE:GREGORIAN
BEGIN:VEVENT
DTSTART:20060509T050000Z
DTEND:20060509T050000Z
X-MICROSOFT-CDO-ALLDAYEVENT:FALSE
SUMMARY:Walmart\, the Good\, Bad and Ugly about the Rural Ec
DESCRIPTION:The Park Rapids Lakes Area Chamber of Commerce and the Downtown Business Association Present \n \nLouise Mengelkoch\, Professor of Journalism at Bemidji State University \n\nWalmart\, the Good\, Bad and Ugly about the Rural Economy \n\nMay 9\, 2006 at Noon \nNorthwoods Bank Conference Room.\nLunch will be catered by Third Street Market\, cost is $8\nPlease RSVP to the Chamber 218-732-4111. Lunch Reservations are required. \n\nRegistration Deadline is May 4\, 2006
X-ALT-DESC;FMTTYPE=text/html:The Park Rapids Lakes Area Chamber of Commerce and the Downtown Business Association Present \n \nLouise Mengelkoch\, Professor of Journalism at Bemidji State University \n\nWalmart\, the Good\, Bad and Ugly about the Rural Economy \n\nMay 9\, 2006 at Noon \nNorthwoods Bank Conference Room.\nLunch will be catered by Third Street Market\, cost is $8\nPlease RSVP to the Chamber 218-732-4111. Lunch Reservations are required. \n\nRegistration Deadline is May 4\, 2006\n\n
LOCATION:
UID:e.91.144
SEQUENCE:3
DTSTAMP:20260420T171101Z
URL:https://business.parkrapids.com/events/details/walmart-the-good-bad-and-ugly-about-the-rural-ec-05-09-2006-144
END:VEVENT

END:VCALENDAR
