BEGIN:VCALENDAR
VERSION:2.0
PRODID:-//ChamberMaster//Event Calendar 2.0//EN
METHOD:PUBLISH
X-PUBLISHED-TTL:P3D
REFRESH-INTERVAL:P3D
CALSCALE:GREGORIAN
BEGIN:VEVENT
DTSTART:20070602T050000Z
DTEND:20070602T050000Z
X-MICROSOFT-CDO-ALLDAYEVENT:FALSE
SUMMARY:Walt Winskowski Memorial Fishing Tournament
DESCRIPTION:
X-ALT-DESC;FMTTYPE=text/html:
LOCATION:Osage
UID:e.91.28
SEQUENCE:3
DTSTAMP:20260419T194154Z
URL:https://business.parkrapids.com/events/details/walt-winskowski-memorial-fishing-tournament-06-02-2007-28
END:VEVENT

END:VCALENDAR
