BEGIN:VCALENDAR
VERSION:2.0
PRODID:-//ChamberMaster//Event Calendar 2.0//EN
METHOD:PUBLISH
X-PUBLISHED-TTL:P3D
REFRESH-INTERVAL:P3D
CALSCALE:GREGORIAN
BEGIN:VEVENT
DTSTART:20070605T050000Z
DTEND:20070707T050000Z
X-MICROSOFT-CDO-ALLDAYEVENT:FALSE
SUMMARY:White Birch Artists
DESCRIPTION:Group Exhibition of art from this fine local group.
X-ALT-DESC;FMTTYPE=text/html:Group Exhibition of art from this fine local group.
LOCATION:North Country Museum of Arts.
UID:e.91.260
SEQUENCE:3
DTSTAMP:20260419T174953Z
URL:https://business.parkrapids.com/events/details/white-birch-artists-06-05-2007-260
END:VEVENT

END:VCALENDAR
