BEGIN:VCALENDAR
VERSION:2.0
PRODID:-//ChamberMaster//Event Calendar 2.0//EN
METHOD:PUBLISH
X-PUBLISHED-TTL:P3D
REFRESH-INTERVAL:P3D
CALSCALE:GREGORIAN
BEGIN:VEVENT
DTSTART;VALUE=DATE:20220710
DTEND;VALUE=DATE:20220711
TRANSP:TRANSPARENT
X-MICROSOFT-CDO-ALLDAYEVENT:TRUE
SUMMARY:Wild Wilderness Adventure
DESCRIPTION:Explore the natural wonders of Tamarac Refuge with a Ranger on a guided one-hour hike (1.4 miles). Meet at the Discovery Center with an introduction to the habitats we share. Sturdy shoes\, long pants\, bug repellant and water suggested for this free adventure. We will hike over uneven terrain into the woods. Bring your camera/binoculars as we will pause and search for discoveries along the way. Learn how you can give back to habitat.
X-ALT-DESC;FMTTYPE=text/html:<span style="color: black\; font-size: 14.6667px\; background-image: initial\; background-position: initial\; background-size: initial\; background-repeat: initial\; background-attachment: initial\; background-origin: initial\; background-clip: initial\; font-family: &quot\;Arial Narrow&quot\;\, sans-serif\; margin: 0px\;">Explore the natural wonders of Tamarac Refuge with a Ranger on a guided one-hour hike (1.4 miles). Meet at the Discovery Center with an introduction to the habitats we share. Sturdy shoes\, long pants\, bug repellant and water suggested for this free adventure. We will hike over uneven terrain into the woods. Bring your camera/binoculars as we will pause and search for discoveries along the way. Learn how you can give back to habitat</span><span style="color: black\; background-image: initial\; background-position: initial\; background-size: initial\; background-repeat: initial\; background-attachment: initial\; background-origin: initial\; background-clip: initial\; font-size: 15pt\; font-family: &quot\;Arial Narrow&quot\;\, sans-serif\; margin: 0px\;">.&nbsp\;</span><span style="color: black\; border: 1pt none windowtext\; font-size: 15pt\; font-family: &quot\;Arial Narrow&quot\;\, sans-serif\; margin: 0px\; padding: 0in\;">&nbsp\;</span>
LOCATION:Tamarac National Wildlife Refuge
UID:e.91.39661
SEQUENCE:3
DTSTAMP:20260424T201243Z
URL:https://business.parkrapids.com/events/details/wild-wilderness-adventure-39661
END:VEVENT

END:VCALENDAR
