BEGIN:VCALENDAR
VERSION:2.0
PRODID:-//ChamberMaster//Event Calendar 2.0//EN
METHOD:PUBLISH
X-PUBLISHED-TTL:P3D
REFRESH-INTERVAL:P3D
CALSCALE:GREGORIAN
BEGIN:VEVENT
DTSTART:20060510T050000Z
DTEND:20060510T050000Z
X-MICROSOFT-CDO-ALLDAYEVENT:FALSE
SUMMARY:WORKPLACE PRODUCTIVITY AND PROFITABILITY
DESCRIPTION:11:30 a.m. to 1:30 p.m.\n\nKeynote Speaker:\nBonnie Schoenfelder\, Ph.D.\,   of Leader Venture\, LLC\, in Bloomington\, MN will be the Key Note Speaker.  Bonnie specializes in organizational development\, systems change\, coaching and training.  Her 15 years of  experience as an executive in line and staff roles in large organizations make  her uniquely qualified to understand the business issues facing organizations today.   Her wide range of business experience has enhanced her expertise in such human resources management areas as executive and management development\, change management\, leadership\, diversity management\, career development\, training program design\, and trainer services development.\n\nWorker Productivity and Profitability \nWednesday\, May 10\, 2006\nLUNCH WILL BE SERVED AT NO CHARGE\n11:30 a.m. to 1:30 p.m.\nNorthwoods Bank of Park Rapids\, Park Rapids\, MN\nReservations are required!
X-ALT-DESC;FMTTYPE=text/html:11:30 a.m. to 1:30 p.m.\n\nKeynote Speaker:\nBonnie Schoenfelder\, Ph.D.\,   of Leader Venture\, LLC\, in Bloomington\, MN will be the Key Note Speaker.  Bonnie specializes in organizational development\, systems change\, coaching and training.  Her 15 years of  experience as an executive in line and staff roles in large organizations make  her uniquely qualified to understand the business issues facing organizations today.   Her wide range of business experience has enhanced her expertise in such human resources management areas as executive and management development\, change management\, leadership\, diversity management\, career development\, training program design\, and trainer services development.\n\nWorker Productivity and Profitability \nWednesday\, May 10\, 2006\nLUNCH WILL BE SERVED AT NO CHARGE\n11:30 a.m. to 1:30 p.m.\nNorthwoods Bank of Park Rapids\, Park Rapids\, MN\nReservations are required! 
LOCATION:NORTHWOODS BANKof Park Rapids\, Conference Center 1200 E. 1st Street (Hwy 34) Park Rapids\, MN Wednesday\, May 10th\, 2006
UID:e.91.143
SEQUENCE:3
DTSTAMP:20260420T185418Z
URL:https://business.parkrapids.com/events/details/workplace-productivity-and-profitability-05-10-2006-143
END:VEVENT

END:VCALENDAR
