BEGIN:VCALENDAR
VERSION:2.0
PRODID:-//ChamberMaster//Event Calendar 2.0//EN
METHOD:PUBLISH
X-PUBLISHED-TTL:P3D
REFRESH-INTERVAL:P3D
CALSCALE:GREGORIAN
BEGIN:VEVENT
DTSTART:20241115T210000Z
DTEND:20241116T020000Z
X-MICROSOFT-CDO-ALLDAYEVENT:FALSE
SUMMARY:Youth Outreach Program Soft Opening
DESCRIPTION:ANNOUNCEMENT!!!\n\nWe are excited to let you know we are planning a soft opening on Friday\, November 15th\, at 3:00pm! All are welcome to come and look around! 600 Park Ave N. Park Rapids\, MN 56470 Front door facing the Highway 71.\n\n \n\n\n\nWe still need physical donations (scroll down to find the list)\, or monetary donations! Either way\, your donation will help keep the doors open and these resources available for our area youth!\n\n \n\nWe also still need #volunteers to help cover the drop-in! Hours will be flexible based on your needs and desires! You must be able to pass a background check and take Mandated Reporter Training!\n\n \n\n\n\nPlease share this with any youth and families from Park Rapids Schools\, Nevis Public School\, and Laporte Public School! We hope to see you on Friday\, November 15th!\n\n \n\n\n\nLight food and non-alcoholic beverages will be served!\n\n \n\n\n\nThanks\,\n\nKori Nelson (Founder/Director) & YESS Board of Directors!
X-ALT-DESC;FMTTYPE=text/html:<div>\n<div>ANNOUNCEMENT!!!</div>\n\n<div>We are excited to let you know we are planning a soft opening on Friday\, November 15th\, at 3:00pm! All are welcome to come and look around! 600 Park Ave N. Park Rapids\, MN 56470 Front door facing the Highway 71.<br />\n&nbsp\;</div>\n</div>\n\n<div>\n<div>We still need physical donations (scroll down to find the list)\, or monetary donations! Either way\, your donation will help keep the doors open and these resources available for our area youth!<br />\n&nbsp\;</div>\n\n<div>We also still need <span style="font-family:inherit"><a class="x1i10hfl xjbqb8w x1ejq31n xd10rxx x1sy0etr x17r0tee x972fbf xcfux6l x1qhh985 xm0m39n x9f619 x1ypdohk xt0psk2 xe8uvvx xdj266r x11i5rnm xat24cr x1mh8g0r xexx8yu x4uap5 x18d9i69 xkhd6sd x16tdsg8 x1hl2dhg xggy1nq x1a2a7pz x1sur9pj xkrqix3 x1fey0fg x1s688f" href="https://www.facebook.com/hashtag/volunteers?__eep__=6&amp\;__cft__[0]=AZX352f4L5GMsB7U1yBYkZVS24xs48hAJINxU-hGHG-GIm9kwdxu5H7c5TrCzO8G0FuWwdHZr1Q8HpwybXfzhjQifSyIIjCbCWp24M88lu8qBN_WyZ1v_6g-XcVwAk3ectfovKZSqeygxagSQRIfx9LYzPBrs3DSTgswE-96t9tpDmFSM1S4ewmnDvCzS50kWnLyRnCFbfUL0hhR7nmERtL7Wpqodiby9zxk0d4GwMmLPg&amp\;__tn__=*NK-y-R" style="cursor: pointer\; text-decoration-line: none\; list-style: none\; margin: 0px\; text-align: inherit\; border-style: none\; padding: 0px\; box-sizing: border-box\; border-width: 0px\; outline: none\; -webkit-tap-highlight-color: transparent\; font-weight: 600\; touch-action: manipulation\; background-color: transparent\; display: inline\; font-family: inherit\;" tabindex="0">#volunteers</a></span> to help cover the drop-in! Hours will be flexible based on your needs and desires! You must be able to pass a background check and take Mandated Reporter Training!<br />\n&nbsp\;</div>\n</div>\n\n<div>\n<div>Please share this with any youth and families from <span style="font-family:inherit"><a class="x1i10hfl xjbqb8w x1ejq31n xd10rxx x1sy0etr x17r0tee x972fbf xcfux6l x1qhh985 xm0m39n x9f619 x1ypdohk xt0psk2 xe8uvvx xdj266r x11i5rnm xat24cr x1mh8g0r xexx8yu x4uap5 x18d9i69 xkhd6sd x16tdsg8 x1hl2dhg xggy1nq x1a2a7pz x1sur9pj xkrqix3 x1fey0fg x1s688f" href="https://www.facebook.com/@parkrapidsschools/?__cft__[0]=AZX352f4L5GMsB7U1yBYkZVS24xs48hAJINxU-hGHG-GIm9kwdxu5H7c5TrCzO8G0FuWwdHZr1Q8HpwybXfzhjQifSyIIjCbCWp24M88lu8qBN_WyZ1v_6g-XcVwAk3ectfovKZSqeygxagSQRIfx9LYzPBrs3DSTgswE-96t9tpDmFSM1S4ewmnDvCzS50kWnLyRnCFbfUL0hhR7nmERtL7Wpqodiby9zxk0d4GwMmLPg&amp\;__tn__=-]K-y-R" style="cursor: pointer\; text-decoration-line: none\; list-style: none\; margin: 0px\; text-align: inherit\; border-style: none\; padding: 0px\; box-sizing: border-box\; border-width: 0px\; outline: none\; -webkit-tap-highlight-color: transparent\; font-weight: 600\; touch-action: manipulation\; background-color: transparent\; display: inline\; font-family: inherit\;" tabindex="0"><span style="font-family:inherit">Park Rapids Schools</span></a></span>\, <span style="font-family:inherit"><a class="x1i10hfl xjbqb8w x1ejq31n xd10rxx x1sy0etr x17r0tee x972fbf xcfux6l x1qhh985 xm0m39n x9f619 x1ypdohk xt0psk2 xe8uvvx xdj266r x11i5rnm xat24cr x1mh8g0r xexx8yu x4uap5 x18d9i69 xkhd6sd x16tdsg8 x1hl2dhg xggy1nq x1a2a7pz x1sur9pj xkrqix3 x1fey0fg x1s688f" href="https://www.facebook.com/profile.php?id=61558264222542&amp\;__cft__[0]=AZX352f4L5GMsB7U1yBYkZVS24xs48hAJINxU-hGHG-GIm9kwdxu5H7c5TrCzO8G0FuWwdHZr1Q8HpwybXfzhjQifSyIIjCbCWp24M88lu8qBN_WyZ1v_6g-XcVwAk3ectfovKZSqeygxagSQRIfx9LYzPBrs3DSTgswE-96t9tpDmFSM1S4ewmnDvCzS50kWnLyRnCFbfUL0hhR7nmERtL7Wpqodiby9zxk0d4GwMmLPg&amp\;__tn__=-]K-y-R" style="cursor: pointer\; text-decoration-line: none\; list-style: none\; margin: 0px\; text-align: inherit\; border-style: none\; padding: 0px\; box-sizing: border-box\; border-width: 0px\; outline: none\; -webkit-tap-highlight-color: transparent\; font-weight: 600\; touch-action: manipulation\; background-color: transparent\; display: inline\; font-family: inherit\;" tabindex="0"><span style="font-family:inherit">Nevis Public School</span></a></span>\, and <span style="font-family:inherit"><a class="x1i10hfl xjbqb8w x1ejq31n xd10rxx x1sy0etr x17r0tee x972fbf xcfux6l x1qhh985 xm0m39n x9f619 x1ypdohk xt0psk2 xe8uvvx xdj266r x11i5rnm xat24cr x1mh8g0r xexx8yu x4uap5 x18d9i69 xkhd6sd x16tdsg8 x1hl2dhg xggy1nq x1a2a7pz x1sur9pj xkrqix3 x1fey0fg x1s688f" href="https://www.facebook.com/profile.php?id=100056814626285&amp\;__cft__[0]=AZX352f4L5GMsB7U1yBYkZVS24xs48hAJINxU-hGHG-GIm9kwdxu5H7c5TrCzO8G0FuWwdHZr1Q8HpwybXfzhjQifSyIIjCbCWp24M88lu8qBN_WyZ1v_6g-XcVwAk3ectfovKZSqeygxagSQRIfx9LYzPBrs3DSTgswE-96t9tpDmFSM1S4ewmnDvCzS50kWnLyRnCFbfUL0hhR7nmERtL7Wpqodiby9zxk0d4GwMmLPg&amp\;__tn__=-]K-y-R" style="cursor: pointer\; text-decoration-line: none\; list-style: none\; margin: 0px\; text-align: inherit\; border-style: none\; padding: 0px\; box-sizing: border-box\; border-width: 0px\; outline: none\; -webkit-tap-highlight-color: transparent\; font-weight: 600\; touch-action: manipulation\; background-color: transparent\; display: inline\; font-family: inherit\;" tabindex="0"><span style="font-family:inherit">Laporte Public School</span></a></span>! We hope to see you on Friday\, November 15th!<br />\n&nbsp\;</div>\n</div>\n\n<div>\n<div>Light food and non-alcoholic beverages will be served!<br />\n&nbsp\;</div>\n</div>\n\n<div>\n<div>Thanks\,</div>\n\n<div>Kori Nelson (Founder/Director) &amp\; YESS Board of Directors!</div>\n</div>\n
LOCATION:600 Park Ave N. Park Rapids\, MN 56470 In front of Polished Head to Toe Salon and Northern Lights Dance Academy Front Door facing Hwy 71 Park in back parking lot or on the highway!
UID:e.91.45993
SEQUENCE:3
DTSTAMP:20260423T041705Z
URL:https://business.parkrapids.com/events/details/youth-outreach-program-soft-opening-45993
END:VEVENT

END:VCALENDAR
